BEGIN:VCALENDAR
VERSION:2.0
PRODID:-//ChamberMaster//Event Calendar 2.0//EN
METHOD:PUBLISH
X-PUBLISHED-TTL:P3D
REFRESH-INTERVAL:P3D
CALSCALE:GREGORIAN
BEGIN:VEVENT
DTSTART:20180101T023000Z
DTEND:20180101T055500Z
X-MICROSOFT-CDO-ALLDAYEVENT:FALSE
SUMMARY:New Years Eve @ the Z103 with TempesT
DESCRIPTION:New Years Eve - Live Music at the Z103\n\n\n\nTEMPEST STORMS THE HOUSE OF ROCK!!
X-ALT-DESC;FMTTYPE=text/html:New Years Eve - Live Music at the Z103<br />\n<br />\n<span style="color: rgb(75\, 79\, 86)\; text-transform: none\; text-indent: 0px\; letter-spacing: normal\; font-family: Helvetica\, Arial\, sans-serif\; font-size: 14px\; font-style: normal\; font-weight: 400\; word-spacing: 0px\; float: none\; display: inline !important\; white-space: normal\; orphans: 2\; widows: 2\; background-color: rgb(255\, 255\, 255)\; font-variant-ligatures: normal\; font-variant-caps: normal\; -webkit-text-stroke-width: 0px\; text-decoration-style: initial\; text-decoration-color: initial\;">TEMPEST STORMS THE HOUSE OF ROCK!!</span>
LOCATION:Z103 Bar & Grill 902 Frontier Dr Fergus Falls
UID:e.314.43089
SEQUENCE:3
DTSTAMP:20260424T074631Z
URL:https://business.fergusfalls.com/events/details/new-years-eve-the-z103-with-tempest-43089
END:VEVENT

END:VCALENDAR
