BEGIN:VCALENDAR
VERSION:2.0
PRODID:-//ChamberMaster//Event Calendar 2.0//EN
METHOD:PUBLISH
X-PUBLISHED-TTL:P3D
REFRESH-INTERVAL:P3D
CALSCALE:GREGORIAN
BEGIN:VEVENT
DTSTART:20170101T020000Z
DTEND:20170101T140000Z
X-MICROSOFT-CDO-ALLDAYEVENT:FALSE
SUMMARY:New Years Youth Lock In
DESCRIPTION:RING IN THE NEW YEAR!\n\nNew Years Youth Lock In at the Y! Youth ages 8-14 join us for a fun filled night of: Volleyball\, Pizza\, Basketball\, Movies\, Games\, and Swimming.\n\nRegistration is $40 in person at the Y.\n\nContact Christine at christine@fergusfallsymca.org or 739-4489 with any questions.
X-ALT-DESC;FMTTYPE=text/html:<span style="color: rgb(136\, 136\, 136)\; text-transform: none\; text-indent: 0px\; letter-spacing: normal\; font-family: Oswald\, Arial\; font-size: 17.33px\; font-style: normal\; font-weight: 300\; word-spacing: 0px\; float: none\; display: inline !important\; white-space: normal\; orphans: 2\; widows: 2\; background-color: rgba(255\, 255\, 255\, 0.74902)\; font-variant-ligatures: normal\; font-variant-caps: normal\; -webkit-text-stroke-width: 0px\;">RING IN THE NEW YEAR!<br />\nNew Years Youth Lock In at the Y! Youth ages 8-14 join us for a fun filled night of: Volleyball\, Pizza\, Basketball\, Movies\, Games\, and Swimming.<br />\nRegistration is $40 in person at the Y.<br />\nContact Christine at christine@fergusfallsymca.org or 739-4489 with any questions.</span>
LOCATION:
UID:e.314.37258
SEQUENCE:3
DTSTAMP:20260425T003105Z
URL:https://business.fergusfalls.com/events/details/new-years-youth-lock-in-37258
END:VEVENT

END:VCALENDAR
