BEGIN:VCALENDAR
VERSION:2.0
PRODID:-//ChamberMaster//Event Calendar 2.0//EN
METHOD:PUBLISH
X-PUBLISHED-TTL:P3D
REFRESH-INTERVAL:P3D
CALSCALE:GREGORIAN
BEGIN:VEVENT
DTSTART:20180514T224500Z
DTEND:20180515T000000Z
X-MICROSOFT-CDO-ALLDAYEVENT:FALSE
SUMMARY:No More Stigmas: Suicide Awareness & Mental Health Month
DESCRIPTION:Lake Region Healthcare's (LRH) Living Well Series for May will feature the topic "No More Stigmas: Suicide Awareness and Mental Health month" at 5:45pm on Monday May 14th\, 2018 in the Fergus Falls Clinic Main lobby.\n\n\n\nTwo LRH professionals\, Maria Willits\, LPN in LRH Psychiatry and LRH Chaplain Deb Forstner\, will speak on the topic. Maria will be providing QPR (Question\, Persuade\, and Refer) Gatekeeper Training for attendees. This is an evidence based suicide prevention\, educational program that teaches the lay and professional "gatekeepers" the warning signs of suicide crisis and how to respond. She calls it the "CPR of mental health crisis". Deb will be discussing some of the spiritual aspects of mental health and that mental health treatment can work\, with the goal of dispelling the stigma often associated with mental illness.\n\n\n\nThe Living Well educational forums are held the second Monday of each month from September through May in the Lake Region Healthcare Clinic Services Lobby at 111 E Vernon Ave in Fergus Falls. Each month\, knowledgeable professionals present on such topics as trends in diet & exercise\, diabetes prevention\, reading labels at the grocery store and much more.\n\n\n\nAll sessions are free and open to the public\, but registration is requested to plan for refreshments. Please call 218.736.8699 or email livingwell@lrhc.org for information or to register. Individual session topics and details for future Living Well sessions are available on the "Calendar" link under the Health & Wellness tab at www.lrhc.org.
X-ALT-DESC;FMTTYPE=text/html:<span>Lake Region Healthcare&rsquo\;s (LRH) Living Well Series for May will feature the topic &ldquo\;No More Stigmas: Suicide Awareness and Mental Health month&rdquo\; at 5:45pm on Monday May 14th\, 2018 in the Fergus Falls Clinic Main lobby.<br />\n<br />\nTwo LRH professionals\, Maria Willits\, LPN in LRH Psychiatry and LRH Chaplain Deb Forstner\, will speak on the topic. Maria will be providing QPR (Question\, Persuade\, and Refer) Gatekeeper Training for attendees. This is an evidence based suicide prevention\, educational program that teaches the lay and professional &ldquo\;gatekeepers&rdquo\; the warning signs of suicide crisis and how to respond. She calls it the &ldquo\;CPR of mental health crisis&rdquo\;. Deb will be discussing some of the spiritual aspects of mental health and that mental health treatment can work\, with the goal of dispelling the stigma often associated with mental illness.<br />\n<br />\nThe Living Well educational forums are held the second Monday of each month from September through May in the Lake Region Healthcare Clinic Services Lobby at 111 E Vernon Ave in Fergus Falls. Each month\, knowledgeable professionals present on such topics as trends in diet &amp\; exercise\, diabetes prevention\, reading labels at the grocery store and much more.<br />\n<br />\nAll sessions are free and open to the public\, but registration is requested to plan for refreshments. Please call 218.736.8699 or email livingwell@lrhc.org for information or to register. Individual session topics and details for future Living Well sessions are available on the &ldquo\;Calendar&rdquo\; link under the Health &amp\; Wellness tab at <a href="http://l.facebook.com/l.php?u=http%3A%2F%2Fwww.lrhc.org%2F&amp\;h=ATMSTyhtQfzT2nsSOCl1oC33i3JLZ47vIeKPP4Gt8ryvWaCgpmTJlOoSANm2AdPjnSESNMwo4YslIA-qAWRZH4nnxjwbCr7S5ZqIHqzEw4uxCR38&amp\;s=1"><font color="#0066cc">www.lrhc.org.</font></a></span>
LOCATION:Lake Region Healthcare 111 W Vernon Ave Fergus Falls MN 56537
UID:e.314.48847
SEQUENCE:3
DTSTAMP:20260424T000225Z
URL:https://business.fergusfalls.com/events/details/no-more-stigmas-suicide-awareness-mental-health-month-48847
END:VEVENT

END:VCALENDAR
