BEGIN:VCALENDAR
VERSION:2.0
PRODID:-//ChamberMaster//Event Calendar 2.0//EN
METHOD:PUBLISH
X-PUBLISHED-TTL:P3D
REFRESH-INTERVAL:P3D
CALSCALE:GREGORIAN
BEGIN:VEVENT
DTSTART;VALUE=DATE:20160118
DTEND;VALUE=DATE:20160119
TRANSP:TRANSPARENT
X-MICROSOFT-CDO-ALLDAYEVENT:TRUE
SUMMARY:No Public School
DESCRIPTION:No Public School - Staff Days \n\nISD #544\n\nJan 18th\n\nJan 25th
X-ALT-DESC;FMTTYPE=text/html:<strong>No Public School - Staff Days </strong><br />\nISD #544<br />\nJan 18th<br />\nJan 25th
LOCATION:
UID:e.314.28468
SEQUENCE:3
DTSTAMP:20260425T214647Z
URL:https://business.fergusfalls.com/events/details/no-public-school-01-18-2016-28468
END:VEVENT

END:VCALENDAR
