BEGIN:VCALENDAR
VERSION:2.0
PRODID:-//ChamberMaster//Event Calendar 2.0//EN
METHOD:PUBLISH
X-PUBLISHED-TTL:P3D
REFRESH-INTERVAL:P3D
CALSCALE:GREGORIAN
BEGIN:VEVENT
DTSTART;VALUE=DATE:20161104
DTEND;VALUE=DATE:20161105
TRANSP:TRANSPARENT
X-MICROSOFT-CDO-ALLDAYEVENT:TRUE
SUMMARY:No School for ISD 544 - Staff Development
DESCRIPTION:No School for ISD 544\n\nStaff Development day
X-ALT-DESC;FMTTYPE=text/html:No School for ISD 544<br />\nStaff Development day
LOCATION:
UID:e.314.36581
SEQUENCE:3
DTSTAMP:20260425T035634Z
URL:https://business.fergusfalls.com/events/details/no-school-for-isd-544-staff-development-36581
END:VEVENT

END:VCALENDAR
