BEGIN:VCALENDAR
VERSION:2.0
PRODID:-//ChamberMaster//Event Calendar 2.0//EN
METHOD:PUBLISH
X-PUBLISHED-TTL:P3D
REFRESH-INTERVAL:P3D
CALSCALE:GREGORIAN
BEGIN:VEVENT
DTSTART;VALUE=DATE:20161124
DTEND;VALUE=DATE:20161126
TRANSP:TRANSPARENT
X-MICROSOFT-CDO-ALLDAYEVENT:TRUE
SUMMARY:NO School ISD 544
DESCRIPTION:ISD 544 No School\n\nThanksgiving Break\n\nNov 24 & 25th 2016
X-ALT-DESC;FMTTYPE=text/html:ISD 544 No School<br />\nThanksgiving Break<br />\nNov 24 &amp\; 25th 2016
LOCATION:
UID:e.314.36583
SEQUENCE:3
DTSTAMP:20260425T035726Z
URL:https://business.fergusfalls.com/events/details/no-school-isd-544-36583
END:VEVENT

END:VCALENDAR
