BEGIN:VCALENDAR
VERSION:2.0
PRODID:-//ChamberMaster//Event Calendar 2.0//EN
METHOD:PUBLISH
X-PUBLISHED-TTL:P3D
REFRESH-INTERVAL:P3D
CALSCALE:GREGORIAN
BEGIN:VEVENT
DTSTART;VALUE=DATE:20170330
DTEND;VALUE=DATE:20170401
TRANSP:TRANSPARENT
X-MICROSOFT-CDO-ALLDAYEVENT:TRUE
SUMMARY:NO School - Public School-
DESCRIPTION:No School - Public School\n\nMarch 30 & 31 2017
X-ALT-DESC;FMTTYPE=text/html:No School - Public School<br />\nMarch 30 &amp\; 31 2017
LOCATION:
UID:e.314.38939
SEQUENCE:3
DTSTAMP:20260424T205840Z
URL:https://business.fergusfalls.com/events/details/no-school-public-school-38939
END:VEVENT

END:VCALENDAR
