BEGIN:VCALENDAR
VERSION:2.0
PRODID:-//ChamberMaster//Event Calendar 2.0//EN
METHOD:PUBLISH
X-PUBLISHED-TTL:P3D
REFRESH-INTERVAL:P3D
CALSCALE:GREGORIAN
BEGIN:VEVENT
DTSTART:20160412T170000Z
DTEND:20160412T180000Z
X-MICROSOFT-CDO-ALLDAYEVENT:FALSE
SUMMARY:Nonprofit Brown Bag Lunch
DESCRIPTION:Nonprofit Brown Bag Lunch: Recruiting the Right Volunteers Training &  Networking\n\n\n\nDate: Apr 12\, 2016\n\nTime: 12:00 PM to 01:00 PM\n\n\n	\n		\n			Where:\n			\n			Lakes Country Service Cooperative\n\n			1001 E. Mount Faith\, Fergus Falls\n			\n		\n	\n\n\n\n	\n		\n			Fee: Free\n			 \n		\n	\n\n\n\n\nFinding volunteers who can support the organization's mission and expand overall impact and outreach is essential to your organization's success. Until you identify and address people's possible resistance(s) to volunteering for your organization\, you will not reach your potential in volunteer recruitment.\n\nFor volunteer recruitment to be successful\, the needs of the organization and the needs of the volunteer must be met. There are tools and resources you can use to help with recruitment.\n\nDuring this workshop you will:\n\n\n	Understand what recruitment is and the impact of doing it well.\n	Understand objections and barriers that people might have to volunteering at their organization and some strategies to overcome them.\n	Develop an effective recruitment message.\n	Apply the characteristics of effective recruiters in experiential exercises\n	Receive tools that will help you strengthen your ability to recruit volunteers.\n\n\nThe lunch speaker will be Karmit Bulman\, executive director of the Minnesota Association for Volunteer Administration.\n\nYou may bring your own lunch\, or lunch can be ordered for $10.00 per person.\n\nFor more information\, contact Holly Witt at 218-737-6515.\n\nRegister at: www.lcsc.org/workshops. The deadline to register is April 6.\n\nThis event is co-sponsored by the Minnesota Council of Nonprofits\, the Lakes Country Service Cooperative and United Way of Otter Tail County.
X-ALT-DESC;FMTTYPE=text/html:<div style="color: gray\;"><span style="color: rgb(0\, 0\, 0)\;">Nonprofit Brown Bag Lunch: Recruiting the Right Volunteers&nbsp\;Training &amp\;&nbsp\; Networking<br />\n<br />\n<b>Date:</b> Apr 12\, 2016<br />\n<b>Time: </b>12:00 PM to 01:00 PM</span>\n\n<table style="padding: 0px\; margin-left: -2px\;">\n	<tbody>\n		<tr>\n			<td><span style="color: rgb(0\, 0\, 0)\;"><b>Where:</b></span></td>\n			<td>\n			<p><a href="http://www.lcsc.org/Page/17" target="_blank"><span style="color: rgb(0\, 0\, 0)\;">Lakes Country Service Cooperative</span></a><br />\n			<a href="http://www.lcsc.org/Page/17" target="_blank"><span style="color: rgb(0\, 0\, 0)\;">1001 E. Mount Faith\, Fergus Falls</span></a></p>\n			</td>\n		</tr>\n	</tbody>\n</table>\n\n<table width="100%">\n	<tbody>\n		<tr>\n			<td><span style="color: rgb(0\, 0\, 0)\;"><b>Fee:</b> Free</span></td>\n			<td style="text-align: right\; padding-right: 0px\;">&nbsp\;</td>\n		</tr>\n	</tbody>\n</table>\n\n<div class="divider"><br />\n<span style="color: rgb(0\, 0\, 0)\;">Finding volunteers who can support the organization&rsquo\;s mission and expand overall impact and outreach is essential to your organization&rsquo\;s success. Until you identify and address people&rsquo\;s possible resistance(s) to volunteering for your organization\, you will not reach your potential in volunteer recruitment.</span></div>\n\n<p><span style="color: rgb(0\, 0\, 0)\;">For volunteer recruitment to be successful\, the needs of the organization and the needs of the volunteer must be met. There are tools and resources you can use to help with recruitment.</span></p>\n\n<p><span style="color: rgb(0\, 0\, 0)\;">During this workshop you will:</span></p>\n\n<ol>\n	<li><span style="color: rgb(0\, 0\, 0)\;">Understand what recruitment is and the impact of doing it well.</span></li>\n	<li><span style="color: rgb(0\, 0\, 0)\;">Understand objections and barriers that people might have to volunteering at their organization and some strategies to overcome them.</span></li>\n	<li><span style="color: rgb(0\, 0\, 0)\;">Develop an effective recruitment message.</span></li>\n	<li><span style="color: rgb(0\, 0\, 0)\;">Apply the characteristics of effective recruiters in experiential exercises</span></li>\n	<li><span style="color: rgb(0\, 0\, 0)\;">Receive tools that will help you strengthen your ability to recruit volunteers.</span></li>\n</ol>\n\n<p><span style="color: rgb(0\, 0\, 0)\;">The lunch speaker will be Karmit Bulman\, executive director of the Minnesota Association for Volunteer Administration.</span></p>\n\n<p><span style="color: rgb(0\, 0\, 0)\;">You may bring your own lunch\, or lunch can be ordered for $10.00 per person.</span></p>\n\n<p><span style="color: rgb(0\, 0\, 0)\;">For more information\, contact Holly Witt at 218-737-6515.</span></p>\n\n<p><span style="color: rgb(0\, 0\, 0)\;">Register at: </span><a href="http://www.lcsc.org/workshops" target="_blank"><span style="color: rgb(0\, 0\, 255)\;">www.lcsc.org/workshops</span></a><span style="color: rgb(0\, 0\, 0)\;">. The deadline to register is April 6.</span></p>\n\n<p><span style="color: rgb(0\, 0\, 0)\;">This event is co-sponsored by the Minnesota Council of Nonprofits\, the Lakes Country Service Cooperative and United Way of Otter Tail County.</span></p>\n</div>\n
LOCATION:Lakes Country Service Cooperative 1001 E. Mount Faith\, Fergus Falls
UID:e.314.32102
SEQUENCE:3
DTSTAMP:20260425T163155Z
URL:https://business.fergusfalls.com/events/details/nonprofit-brown-bag-lunch-04-12-2016-32102
END:VEVENT

END:VCALENDAR
