BEGIN:VCALENDAR
VERSION:2.0
PRODID:-//ChamberMaster//Event Calendar 2.0//EN
METHOD:PUBLISH
X-PUBLISHED-TTL:P3D
REFRESH-INTERVAL:P3D
CALSCALE:GREGORIAN
BEGIN:VEVENT
DTSTART:20170315T164500Z
DTEND:20170315T180000Z
X-MICROSOFT-CDO-ALLDAYEVENT:FALSE
SUMMARY:Nonprofit Brown Bag Lunch
DESCRIPTION:Nonprofit Brown Bag Lunch\n\nBring your own Lunch - Topic to be determined.
X-ALT-DESC;FMTTYPE=text/html:Nonprofit Brown Bag Lunch<br />\nBring your own Lunch - Topic to be determined.<br />\n&nbsp\;
LOCATION:Lakes Country Service Cooperative 1001 E Mount Faith\, Fergus Falls MN 56537
UID:e.314.38813
SEQUENCE:3
DTSTAMP:20260424T225112Z
URL:https://business.fergusfalls.com/events/details/nonprofit-brown-bag-lunch-38813
END:VEVENT

END:VCALENDAR
