BEGIN:VCALENDAR
VERSION:2.0
PRODID:-//ChamberMaster//Event Calendar 2.0//EN
METHOD:PUBLISH
X-PUBLISHED-TTL:P3D
REFRESH-INTERVAL:P3D
CALSCALE:GREGORIAN
BEGIN:VEVENT
DTSTART;VALUE=DATE:20190924
DTEND;VALUE=DATE:20190925
TRANSP:TRANSPARENT
X-MICROSOFT-CDO-ALLDAYEVENT:TRUE
SUMMARY:Nonprofit Leadership Training Series
DESCRIPTION:Nonprofit Leadership Training Series\n\n\n\nWho should attend? Non-profit leaders (CEO\, ED\, Manager\, Director\, etc.)\nAbout Essentials Training Group:\n\nWorking to provide professional development resources and training opportunities to build stronger non-profits in our region.\n\nRegistration: $500.00*\n\nEarly Bird: $450.00 (Register by Aug. 1)\n\n*Cost includes lunch at each session.
X-ALT-DESC;FMTTYPE=text/html:<div class="_63ew" data-testid="event-permalink-details"><a aria-describedby="u_6i_1" aria-owns="js_csw" data-hovercard="/ajax/hovercard/event.php?id=409884316282921&amp\;extragetparams=%7B%22source%22%3A1%2C%22action_history%22%3A%22%5B%7B%5C%22surface%5C%22%3A%5C%22permalink%5C%22%2C%5C%22mechanism%5C%22%3A%5C%22surface%5C%22%2C%5C%22extra_data%5C%22%3A%5B%5D%7D%2C%7B%5C%22surface%5C%22%3A%5C%22permalink%5C%22%2C%5C%22mechanism%5C%22%3A%5C%22child_dates_view%5C%22%2C%5C%22extra_data%5C%22%3A%5B%5D%7D%5D%22%2C%22has_source%22%3Atrue%2C%22eid%22%3A%22ARAIBffBbErAuzV5gRhhTSI9DUqTz7Z9vtu2hCPEAj2XleulLw7FtPQdQtT9OEkcb0YTfIC6qsD6mb6r%22%7D" data-hovercard-prefer-more-content-show="1" href="https://www.facebook.com/events/409884316282921/?acontext=%7B%22source%22%3A1%2C%22action_history%22%3A%22%5B%7B%5C%22surface%5C%22%3A%5C%22permalink%5C%22%2C%5C%22mechanism%5C%22%3A%5C%22surface%5C%22%2C%5C%22extra_data%5C%22%3A%5B%5D%7D%2C%7B%5C%22surface%5C%22%3A%5C%22permalink%5C%22%2C%5C%22mechanism%5C%22%3A%5C%22child_dates_view%5C%22%2C%5C%22extra_data%5C%22%3A%5B%5D%7D%5D%22%2C%22has_source%22%3Atrue%7D&amp\;source=1&amp\;action_history=%5B%7B%22surface%22%3A%22permalink%22%2C%22mechanism%22%3A%22surface%22%2C%22extra_data%22%3A%5B%5D%7D%2C%7B%22surface%22%3A%22permalink%22%2C%22mechanism%22%3A%22child_dates_view%22%2C%22extra_data%22%3A%5B%5D%7D%5D&amp\;has_source=1&amp\;eid=ARAIBffBbErAuzV5gRhhTSI9DUqTz7Z9vtu2hCPEAj2XleulLw7FtPQdQtT9OEkcb0YTfIC6qsD6mb6r" id="js_ct0"><font color="#0066cc">Nonprofit Leadership Training Series</font></a><br />\n<br />\n<span><strong>Who should attend?</strong> Non-profit leaders (CEO\, ED\, Manager\, Director\, etc.)</span>\n<p><strong>About Essentials Training Group:</strong><br />\nWorking to provide professional development resources and training opportunities to build stronger non-profits in our region.</p>\n\n<p><strong>Registration:</strong> $500.00*<br />\n<strong>Early Bird:</strong> $450.00 (Register by Aug. 1)<br />\n<em>*Cost includes lunch at each session.</em></p>\n</div>\n
LOCATION:West Central Initiative 1000 Western Ave Fergus Falls
UID:e.314.54548
SEQUENCE:3
DTSTAMP:20260422T222349Z
URL:https://business.fergusfalls.com/events/details/nonprofit-leadership-training-series-54548
END:VEVENT

END:VCALENDAR
