BEGIN:VCALENDAR
VERSION:2.0
PRODID:-//ChamberMaster//Event Calendar 2.0//EN
METHOD:PUBLISH
X-PUBLISHED-TTL:P3D
REFRESH-INTERVAL:P3D
CALSCALE:GREGORIAN
BEGIN:VEVENT
DTSTART:20151013T170000Z
DTEND:20151013T180000Z
X-MICROSOFT-CDO-ALLDAYEVENT:FALSE
SUMMARY:Noon Body Pump @ Anytime Fitness
DESCRIPTION:Noon Body Pump @ Anytime Fitness
X-ALT-DESC;FMTTYPE=text/html:Noon Body Pump @ Anytime Fitness<br />\n&nbsp\;
LOCATION:120 1/2 West Cavour City Center Mall Fergus Falls\, MN 56537 (218) 998-4424
UID:e.314.24873
SEQUENCE:3
DTSTAMP:20260426T030646Z
URL:https://business.fergusfalls.com/events/details/noon-body-pump-anytime-fitness-10-13-2015-24873
END:VEVENT

END:VCALENDAR
