BEGIN:VCALENDAR
VERSION:2.0
PRODID:-//ChamberMaster//Event Calendar 2.0//EN
METHOD:PUBLISH
X-PUBLISHED-TTL:P3D
REFRESH-INTERVAL:P3D
CALSCALE:GREGORIAN
BEGIN:VEVENT
DTSTART:20180324T143000Z
DTEND:20180324T160000Z
X-MICROSOFT-CDO-ALLDAYEVENT:FALSE
SUMMARY:Noon Kiwanis Easter Egg Hunt and Teddy Bear Picnic
DESCRIPTION:Noon Kiwanis Easter Egg Hunt and Teddy Bear Picnic\n\nHosted by FF Noon Kiwanis \n\n\n\n\n\nEaster Egg Hunt at NP park starting at 9:30 am\n\nTeddy Bear Picnic at the Library starting at 10:30 am- (books\, songs\, puppet show and snacks)\n\nEvent is free of charge and is for children up to 6 years old.
X-ALT-DESC;FMTTYPE=text/html:<span style="font-size: 14px\;"><strong>Noon Kiwanis Easter Egg Hunt and Teddy Bear Picnic</strong></span><br />\n<strong><em>Hosted by FF Noon Kiwanis </em></strong><br />\n<br />\n<br />\n<span class="_4n-j _3cht fsl" data-testid="event-permalink-details">Easter Egg Hunt at NP park starting at 9:30 am<br />\nTeddy Bear Picnic at the Library starting at 10:30 am- (books\, songs\, puppet show and snacks)<br />\nEvent is free of charge and is for children up to 6 years old.</span><br />\n&nbsp\;
LOCATION:NP Park/Fergus Falls Public Library
UID:e.314.43932
SEQUENCE:3
DTSTAMP:20260424T025207Z
URL:https://business.fergusfalls.com/events/details/noon-kiwanis-easter-egg-hunt-and-teddy-bear-picnic-43932
END:VEVENT

END:VCALENDAR
