BEGIN:VCALENDAR
VERSION:2.0
PRODID:-//ChamberMaster//Event Calendar 2.0//EN
METHOD:PUBLISH
X-PUBLISHED-TTL:P3D
REFRESH-INTERVAL:P3D
CALSCALE:GREGORIAN
BEGIN:VEVENT
DTSTART:20170205T140000Z
DTEND:20170205T180000Z
X-MICROSOFT-CDO-ALLDAYEVENT:FALSE
SUMMARY:Noon Kiwanis Pancake Feed
DESCRIPTION:NEW THIS YEAR WILL BE KID FRIENDLY ACTIVITIES INCLUDING A BOUNCE HOUSE.\n\nAdults-$6.00\n\nChildren 3 and under-= $3.00\n\nTickets can be purchased from any noon Kiwanis member or at the door.\n\nAll proceeds benefit children in Fergus Falls and surrounding communities.
X-ALT-DESC;FMTTYPE=text/html:NEW THIS YEAR WILL BE KID FRIENDLY ACTIVITIES INCLUDING A BOUNCE HOUSE.<br />\nAdults-$6.00<br />\nChildren 3 and under-= $3.00<br />\nTickets can be purchased from any noon Kiwanis member or at the door.<br />\nAll proceeds benefit children in Fergus Falls and surrounding communities.
LOCATION:Fergus Falls YMCA 1164 Friberg Ave
UID:e.314.37244
SEQUENCE:3
DTSTAMP:20260424T224802Z
URL:https://business.fergusfalls.com/events/details/noon-kiwanis-pancake-feed-37244
END:VEVENT

END:VCALENDAR
