BEGIN:VCALENDAR
VERSION:2.0
PRODID:-//ChamberMaster//Event Calendar 2.0//EN
METHOD:PUBLISH
X-PUBLISHED-TTL:P3D
REFRESH-INTERVAL:P3D
CALSCALE:GREGORIAN
BEGIN:VEVENT
DTSTART:20200202T140000Z
DTEND:20200202T183000Z
X-MICROSOFT-CDO-ALLDAYEVENT:FALSE
SUMMARY:Noon Kiwanis Pancake Feed
DESCRIPTION:All you can eat pancakes\n\nAdults $6.00\n\n12 and under $3.00\n\nProceeds to benefit children in Fergus Falls and surrounding communities
X-ALT-DESC;FMTTYPE=text/html:<div class="_63ew" data-testid="event-permalink-details"><span>All you can eat pancakes<br />\nAdults $6.00<br />\n12 and under $3.00<br />\nProceeds to benefit children in Fergus Falls and surrounding communities</span></div>\n
LOCATION:Fergus Falls YMCA 1164 Friberg Ave\, Fergus Falls\, Minnesota 56537
UID:e.314.56030
SEQUENCE:3
DTSTAMP:20260422T142508Z
URL:https://business.fergusfalls.com/events/details/noon-kiwanis-pancake-feed-56030
END:VEVENT

END:VCALENDAR
