BEGIN:VCALENDAR
VERSION:2.0
PRODID:-//ChamberMaster//Event Calendar 2.0//EN
METHOD:PUBLISH
X-PUBLISHED-TTL:P3D
REFRESH-INTERVAL:P3D
CALSCALE:GREGORIAN
BEGIN:VEVENT
DTSTART:20160310T230000Z
DTEND:20160311T000000Z
X-MICROSOFT-CDO-ALLDAYEVENT:FALSE
SUMMARY:North Country Trail: Glacial Edge Chapter meeting
DESCRIPTION:Learn more about the development of the nations longest hiking trail including a connection in the Fergus Falls area.
X-ALT-DESC;FMTTYPE=text/html:Learn more about the development of the nations longest hiking trail including a connection in the Fergus Falls area.
LOCATION:Spot Panini & Wine in downtown Fergus Falls.
UID:e.314.31805
SEQUENCE:3
DTSTAMP:20260425T183144Z
URL:https://business.fergusfalls.com/events/details/north-country-trail-glacial-edge-chapter-meeting-03-10-2016-31805
END:VEVENT

END:VCALENDAR
