BEGIN:VCALENDAR
VERSION:2.0
PRODID:-//ChamberMaster//Event Calendar 2.0//EN
METHOD:PUBLISH
X-PUBLISHED-TTL:P3D
REFRESH-INTERVAL:P3D
CALSCALE:GREGORIAN
BEGIN:VEVENT
DTSTART:20160311T000000Z
DTEND:20160311T010000Z
X-MICROSOFT-CDO-ALLDAYEVENT:FALSE
SUMMARY:North Country Trail Speaker Presentation
DESCRIPTION:Lowell Deede\, a Detroit Lakes resident\, recently retired from a career as a wildlife biologist at Tamarac National Wildlife Refuge and just completed a 2 1/2  year effort to walk all 2\,150 of public roads in Becker County. His trek actually included 3\,000 miles of walking with the backtracking and he said that highlights included wildlife seen\, people encountered\, and interesting architecture observed while walking as opposed to the usual faster pace of driving. His experience has been written up in the Detroit Lakes Tribune and also will be featured in the Star Tribune. Lowell is also attempting to summit all 50 State high points ? he?s completed 35 including Denali   and has climbed Mt. Kilimanjaro in Africa.
X-ALT-DESC;FMTTYPE=text/html:Lowell Deede\, a Detroit Lakes resident\, recently retired from a career as a wildlife biologist at Tamarac National Wildlife Refuge and just completed a 2 1/2 &shy\;year effort to walk all 2\,150 of public roads in Becker County. His trek actually included 3\,000 miles of walking with the backtracking and he said that highlights included wildlife seen\, people encountered\, and interesting architecture observed while walking as opposed to the usual faster pace of driving. His experience has been written up in the Detroit Lakes Tribune and also will be featured in the Star Tribune. Lowell is also attempting to summit all 50 State high points ? he?s completed 35 including Denali &shy\; and has climbed Mt. Kilimanjaro in Africa.
LOCATION:Spot Panini & Wine in downtown Fergus Falls
UID:e.314.31806
SEQUENCE:3
DTSTAMP:20260425T182512Z
URL:https://business.fergusfalls.com/events/details/north-country-trail-speaker-presentation-03-10-2016-31806
END:VEVENT

END:VCALENDAR
