BEGIN:VCALENDAR
VERSION:2.0
PRODID:-//ChamberMaster//Event Calendar 2.0//EN
METHOD:PUBLISH
X-PUBLISHED-TTL:P3D
REFRESH-INTERVAL:P3D
CALSCALE:GREGORIAN
BEGIN:VEVENT
DTSTART:20161231T170000Z
DTEND:20170102T030000Z
X-MICROSOFT-CDO-ALLDAYEVENT:FALSE
SUMMARY:Northern Aire Lanes New Year's Weekend Events
DESCRIPTION:Northern Aire Lanes\n\n\n\nNorthern Aire Lanes\, located at 1419 College Way\, will host its New Year's Eve celebration with Jackpot Bowling Party starting at 10 p.m. Saturday.\n\n\n\nJackpot Bowling Party will be in the dark with party lights and different colored bowling pins.\n\n\n\nFor $22 per person\, Jackpot Bowling Party will allow three games to be bowled along with free appetizers and snacks.\n\n\n\nPeople interested in attending are encouraged to call ahead for reservations at 218-736-3333.\n\n\n\nPrizes worth 50 cents to $600 will be given away depending on the color of the pins\, manager Luke Loeffler said.\n\n\n\n"We would like it if people would call ahead to know how much food we will need to have for everyone that will be there\," Loeffler said. Rock and Bowl\, which includes music and lights\, will then start at 12:30 a.m.\n\n\n\nRegular bowling hours on Saturday are from 11 a.m. to 9:30 p.m.\n\n\n\nNorthern Aire Lanes will also be open 2-9 p.m. Sunday.
X-ALT-DESC;FMTTYPE=text/html:&nbsp\;Northern Aire Lanes<br />\n<br />\nNorthern Aire Lanes\, located at 1419 College Way\, will host its New Year&rsquo\;s Eve celebration with Jackpot Bowling Party starting at 10 p.m. Saturday.<br />\n<br />\nJackpot Bowling Party will be in the dark with party lights and different colored bowling pins.<br />\n<br />\nFor $22 per person\, Jackpot Bowling Party will allow three games to be bowled along with free appetizers and snacks.<br />\n<br />\nPeople interested in attending are encouraged to call ahead for reservations at 218-736-3333.<br />\n<br />\nPrizes worth 50 cents to $600 will be given away depending on the color of the pins\, manager Luke Loeffler said.<br />\n<br />\n&ldquo\;We would like it if people would call ahead to know how much food we will need to have for everyone that will be there\,&rdquo\; Loeffler said. Rock and Bowl\, which includes music and lights\, will then start at 12:30 a.m.<br />\n<br />\nRegular bowling hours on Saturday are from 11 a.m. to 9:30 p.m.<br />\n<br />\nNorthern Aire Lanes will also be open 2-9 p.m. Sunday.
LOCATION:
UID:e.314.37405
SEQUENCE:3
DTSTAMP:20260425T022659Z
URL:https://business.fergusfalls.com/events/details/northern-aire-lanes-new-year-s-weekend-events-37405
END:VEVENT

END:VCALENDAR
