BEGIN:VCALENDAR
VERSION:2.0
PRODID:-//ChamberMaster//Event Calendar 2.0//EN
METHOD:PUBLISH
X-PUBLISHED-TTL:P3D
REFRESH-INTERVAL:P3D
CALSCALE:GREGORIAN
BEGIN:VEVENT
DTSTART:20200801T000000Z
DTEND:20200801T040000Z
X-MICROSOFT-CDO-ALLDAYEVENT:FALSE
SUMMARY:Northern Vintage Stock Car Races $5 Grandstand Night @ I-94 Sure Step Speedway
DESCRIPTION:Northern Vintage Stock Car Races- $5 Grandstand NIght\n\n\nNo Wissota Late Models\n\n\nEvent Classes\n\nLimited Late Model\, Short Tracker\, WISSOTA Midwest Mods\, WISSOTA Modifieds\, WISSOTA Street Stock\n\n\n\n\n\nRace updates:\n\n103.3 LIEGHTON BROADCASTING
X-ALT-DESC;FMTTYPE=text/html:<h4 style="margin: 0px 0px 5px\; padding: 0px\; border: 0px\; outline: 0px\; font-weight: bold\; font-family: Tahoma\; vertical-align: baseline\; font-size: 12px\; color: rgb(0\, 0\, 0)\;">Northern Vintage Stock Car Races- $5 Grandstand NIght</h4>\n\n<div class="mdWrap" style="margin: 0px\; padding: 0px\; border: 0px\; outline: 0px\; font-family: Tahoma\; vertical-align: baseline\; color: rgb(0\, 0\, 0)\; font-size: 12px\;">\n<p style="margin: 0px 0px 1em\; padding: 0px\; border: 0px\; outline: 0px\; font-weight: inherit\; font-style: inherit\; font-family: inherit\; vertical-align: baseline\; line-height: 1.4\;">No Wissota Late Models</p>\n</div>\n\n<div class="schEventClassWrap" style="margin: 0px\; padding: 0px\; border: 0px\; outline: 0px\; font-family: Tahoma\; vertical-align: baseline\; color: rgb(0\, 0\, 0)\; font-size: 12px\;"><strong style="margin: 0px\; padding: 0px\; border: 0px\; outline: 0px\; font-style: inherit\; font-family: inherit\; vertical-align: baseline\;">Event Classes</strong>\n\n<div class="eventInfo" style="margin: 0px\; padding: 0px\; border: 0px\; outline: 0px\; font-weight: inherit\; font-style: inherit\; font-family: inherit\; vertical-align: baseline\;">Limited Late Model\, Short Tracker\, WISSOTA Midwest Mods\, WISSOTA Modifieds\, WISSOTA Street Stock</div>\n</div>\n\n<div class="schEventClassWrap" style="margin: 0px\; padding: 0px\; border: 0px\; outline: 0px\; font-family: Tahoma\; vertical-align: baseline\; color: rgb(0\, 0\, 0)\; font-size: 12px\;">\n<div class="eventInfo" style="margin: 0px\; padding: 0px\; border: 0px\; outline: 0px\; font-weight: inherit\; font-style: inherit\; font-family: inherit\; vertical-align: baseline\;"><br />\n<span style="color: rgb(0\, 0\, 0)\; font-family: Tahoma\; font-size: 12px\;">Race updates:</span><br style="color: rgb(0\, 0\, 0)\; font-family: Tahoma\; font-size: 12px\;" />\n<span style="color: rgb(0\, 0\, 0)\; font-family: Tahoma\; font-size: 12px\;">103.3 LIEGHTON BROADCASTING</span></div>\n</div>\n
LOCATION:I-94 Sure Step Speedway LOCATION: North of Fergus Falls MN on Cty. Rd.88 Physical address: 2001 W Fir Ave\, Fergus Falls MN 56537
UID:e.314.57554
SEQUENCE:3
DTSTAMP:20260422T084115Z
URL:https://business.fergusfalls.com/events/details/northern-vintage-stock-car-races-5-grandstand-night-i-94-sure-step-speedway-57554
END:VEVENT

END:VCALENDAR
