BEGIN:VCALENDAR
VERSION:2.0
PRODID:-//ChamberMaster//Event Calendar 2.0//EN
METHOD:PUBLISH
X-PUBLISHED-TTL:P3D
REFRESH-INTERVAL:P3D
CALSCALE:GREGORIAN
BEGIN:VEVENT
DTSTART:20181012T000000Z
DTEND:20181012T010000Z
X-MICROSOFT-CDO-ALLDAYEVENT:FALSE
SUMMARY:Not Alone Documentary
DESCRIPTION:FREE showing for this amazing film! Understand suicide prevention in teens and learn about options for help through this inspirational documentary. #notalone
X-ALT-DESC;FMTTYPE=text/html:<div class="_63ew" data-testid="event-permalink-details"><span>FREE showing for this amazing film! Understand suicide prevention in teens and learn about options for help through this inspirational documentary. <a href="https://www.facebook.com/hashtag/notalone" target="_blank"><font color="#0066cc">#notalone</font></a></span></div>\n
LOCATION:Federated Church 224 N Union
UID:e.314.50402
SEQUENCE:3
DTSTAMP:20260423T150522Z
URL:https://business.fergusfalls.com/events/details/not-alone-documentary-50402
END:VEVENT

END:VCALENDAR
