BEGIN:VCALENDAR
VERSION:2.0
PRODID:-//ChamberMaster//Event Calendar 2.0//EN
METHOD:PUBLISH
X-PUBLISHED-TTL:P3D
REFRESH-INTERVAL:P3D
CALSCALE:GREGORIAN
BEGIN:VEVENT
DTSTART:20180310T013000Z
DTEND:20180310T034500Z
X-MICROSOFT-CDO-ALLDAYEVENT:FALSE
SUMMARY:Nunsense
DESCRIPTION:The Little Sisters of Hoboken are coming to Fergus Falls!\nThe Minnesota State Community and Technical College Theatre and Music Departments present the frolicking\, habit-forming musical comedy "Nunsense" on the Fergus Falls campus in performances March 2-10.\n\nThe Little Sisters are sponsoring a show to raise funds to bury the 52 residents of their convent who were accidentally poisoned by the convent cook\, Sister Julia (Child of God). Written by Dan Groggin\, the comedy includes a Mother Superior who misses the spotlight\, a nun who can't remember who she is\, interpretive dance\, a cooking lesson and (risqu ) nun humor.\n\nCast members include M State students Jeanne Lindstrom of Cokato\; Taylor Larson\, Alise Werner\, Jamie Olson and Mariah Seidel of Fergus Falls\; Sidney Imsande of New York Mills\; and Libby Poyzer of Elbow Lake.\n\nNunsense is directed by M State theatre instructor Stephanie Gerhardson and M State choral music instructor Teresa Ashworth.
X-ALT-DESC;FMTTYPE=text/html:The Little Sisters of Hoboken are coming to Fergus Falls!\n<p>The Minnesota State Community and Technical College Theatre and Music Departments present the frolicking\, habit-forming musical comedy &ldquo\;Nunsense&rdquo\; on the Fergus Falls campus in performances March 2-10.</p>\n\n<p>The Little Sisters are sponsoring a show to raise funds to bury the 52 residents of their convent who were accidentally poisoned by the convent cook\, Sister Julia (Child of God). Written by Dan Groggin\, the comedy includes a Mother Superior who misses the spotlight\, a nun who can&rsquo\;t remember who she is\, interpretive dance\, a cooking lesson and (risqu&eacute\;) nun humor.</p>\n\n<p>Cast members include M State students Jeanne Lindstrom of Cokato\; Taylor Larson\, Alise Werner\, Jamie Olson and Mariah Seidel of Fergus Falls\; Sidney Imsande of New York Mills\; and Libby Poyzer of Elbow Lake.</p>\n\n<p>Nunsense is directed by M State theatre instructor Stephanie Gerhardson and M State choral music instructor Teresa Ashworth.</p>\n\n<p>&nbsp\;</p>\n\n<p>&nbsp\;</p>\n
LOCATION:Minnesota State Community & Technical College 1414 College Way Fergus Falls MN 56537
UID:e.314.43898
SEQUENCE:3
DTSTAMP:20260424T012204Z
URL:https://business.fergusfalls.com/events/details/nunsense-03-09-2018-43898
END:VEVENT

END:VCALENDAR
