BEGIN:VCALENDAR
VERSION:2.0
PRODID:-//ChamberMaster//Event Calendar 2.0//EN
METHOD:PUBLISH
X-PUBLISHED-TTL:P3D
REFRESH-INTERVAL:P3D
CALSCALE:GREGORIAN
BEGIN:VEVENT
DTSTART:20160727T233000Z
DTEND:20160728T003000Z
X-MICROSOFT-CDO-ALLDAYEVENT:FALSE
SUMMARY:Nursery Rhyme Olympics - Birth to Age 6 - FFPL
DESCRIPTION:Nursery Rhyme Olympics!\n\nWednesday\, July 27\; 6:30pm\n\nBirth - Age 6\n\n\n\nGo for the gold at our Nursery Rhyme Olympics! Visit stations to participate in fun games based on our favorite rhymes from Mother Goose.
X-ALT-DESC;FMTTYPE=text/html:<span style="color: rgb(75\, 79\, 86)\; font-family: helvetica\, arial\, sans-serif\; font-size: 14px\; line-height: 18.76px\;">Nursery Rhyme Olympics!</span><br style="color: rgb(75\, 79\, 86)\; font-family: helvetica\, arial\, sans-serif\; font-size: 14px\; line-height: 18.76px\;" />\n<span style="color: rgb(75\, 79\, 86)\; font-family: helvetica\, arial\, sans-serif\; font-size: 14px\; line-height: 18.76px\;">Wednesday\, July 27\; 6:30pm</span><br style="color: rgb(75\, 79\, 86)\; font-family: helvetica\, arial\, sans-serif\; font-size: 14px\; line-height: 18.76px\;" />\n<span style="color: rgb(75\, 79\, 86)\; font-family: helvetica\, arial\, sans-serif\; font-size: 14px\; line-height: 18.76px\;">Birth - Age 6</span><br style="color: rgb(75\, 79\, 86)\; font-family: helvetica\, arial\, sans-serif\; font-size: 14px\; line-height: 18.76px\;" />\n<br style="color: rgb(75\, 79\, 86)\; font-family: helvetica\, arial\, sans-serif\; font-size: 14px\; line-height: 18.76px\;" />\n<span style="color: rgb(75\, 79\, 86)\; font-family: helvetica\, arial\, sans-serif\; font-size: 14px\; line-height: 18.76px\;">Go for the gold at our Nursery Rhyme Olympics! Visit stations to participate in fun games based on our favorite rhymes from Mother Goose.</span>
LOCATION:Fergus Falls Public Library\, 205 Hampden Avenue\, Fergus Falls\, MN 56537
UID:e.314.32911
SEQUENCE:3
DTSTAMP:20260425T111935Z
URL:https://business.fergusfalls.com/events/details/nursery-rhyme-olympics-birth-to-age-6-ffpl-07-27-2016-32911
END:VEVENT

END:VCALENDAR
