BEGIN:VCALENDAR
VERSION:2.0
PRODID:-//ChamberMaster//Event Calendar 2.0//EN
METHOD:PUBLISH
X-PUBLISHED-TTL:P3D
REFRESH-INTERVAL:P3D
CALSCALE:GREGORIAN
BEGIN:VEVENT
DTSTART:20160426T230000Z
DTEND:20160427T020000Z
X-MICROSOFT-CDO-ALLDAYEVENT:FALSE
SUMMARY:Nurturing Nature in the Next Generation - PWLC Annual Fundraiser
DESCRIPTION:Please join the Friends of the Prairie Wetlands Learning Center for their Annual Fundraiser. The evening will include live & silent auctions\, hors d'oeuvres buffet\, dessert bar\, coffee and cash bar. Proceeds to benefit PWLC greenhouse operations. Please RSVP by April 18th.
X-ALT-DESC;FMTTYPE=text/html:Please join the Friends of the Prairie Wetlands Learning Center for their Annual Fundraiser. The evening will include live &amp\; silent auctions\, hors d&#39\;oeuvres buffet\, dessert bar\, coffee and cash bar. Proceeds to benefit PWLC greenhouse operations. Please RSVP by April 18th.
LOCATION:Bigwood Event Center
UID:e.314.32111
SEQUENCE:3
DTSTAMP:20260425T163154Z
URL:https://business.fergusfalls.com/events/details/nurturing-nature-in-the-next-generation-pwlc-annual-fundraiser-04-26-2016-32111
END:VEVENT

END:VCALENDAR
