BEGIN:VCALENDAR
VERSION:2.0
PRODID:-//ChamberMaster//Event Calendar 2.0//EN
METHOD:PUBLISH
X-PUBLISHED-TTL:P3D
REFRESH-INTERVAL:P3D
CALSCALE:GREGORIAN
BEGIN:VEVENT
DTSTART:20171216T013000Z
DTEND:20171217T033000Z
X-MICROSOFT-CDO-ALLDAYEVENT:FALSE
SUMMARY:Nutcracker
DESCRIPTION:Nutcracker
X-ALT-DESC;FMTTYPE=text/html:Nutcracker&nbsp\;
LOCATION:A Center for the Arts 124 Lincoln Ave. Fergus Falls MN 56537
UID:e.314.43102
SEQUENCE:3
DTSTAMP:20260424T072657Z
URL:https://business.fergusfalls.com/events/details/nutcracker-43102
END:VEVENT

END:VCALENDAR
