BEGIN:VCALENDAR
VERSION:2.0
PRODID:-//ChamberMaster//Event Calendar 2.0//EN
METHOD:PUBLISH
X-PUBLISHED-TTL:P3D
REFRESH-INTERVAL:P3D
CALSCALE:GREGORIAN
BEGIN:VEVENT
DTSTART:20191106T140000Z
DTEND:20191106T230000Z
X-MICROSOFT-CDO-ALLDAYEVENT:FALSE
SUMMARY:nVision 2019
DESCRIPTION:JOIN US FOR NVISION ON NOVEMBER 6 Collaborate\, strategize and discuss the future of technology with regional and national experts. Learn and get inspired as we stay ahead of coming trends\, such as data analytics\, security\, digital workplace\, cloud and more. There is no cost to attend nVision\, so bring your whole team!
X-ALT-DESC;FMTTYPE=text/html:JOIN US FOR <strong>NVISION</strong> ON NOVEMBER 6 Collaborate\, strategize and discuss the future of technology with regional and national experts. Learn and get inspired as we stay ahead of coming trends\, such as data analytics\, security\, digital workplace\, cloud and more. There is no cost to attend<strong> nVision</strong>\, so bring your whole team!
LOCATION:Holiday Inn Fargo
UID:e.314.55707
SEQUENCE:3
DTSTAMP:20260422T200556Z
URL:https://business.fergusfalls.com/events/details/nvision-2019-55707
END:VEVENT

END:VCALENDAR
