BEGIN:VCALENDAR
VERSION:2.0
PRODID:-//ChamberMaster//Event Calendar 2.0//EN
METHOD:PUBLISH
X-PUBLISHED-TTL:P3D
REFRESH-INTERVAL:P3D
CALSCALE:GREGORIAN
BEGIN:VEVENT
DTSTART;VALUE=DATE:20170317
DTEND;VALUE=DATE:20170318
TRANSP:TRANSPARENT
X-MICROSOFT-CDO-ALLDAYEVENT:TRUE
SUMMARY:O'Fun and O'Shenanigans @ the VFW
DESCRIPTION:Join us  for some O'Fun and O'Shenanigans!\n\nSt. Patrick's day is today! We will be serving $1.00 green beers\, $2.50 green drinks (not top shelf) Corned beef and cabbage from 11-30-7:00. True Gritt wil...l be playing 8:30-12:30! Meat raffle starts at 4:00 and bingo starts at 5:30 with a must go $750.00 black out!! See you at the club!!!
X-ALT-DESC;FMTTYPE=text/html:Join us &nbsp\;for some O&#39\;Fun and O&#39\;Shenanigans!<br />\nSt. Patrick&#39\;s day is today! We will be serving $1.00 green beers\, $2.50 green drinks (not top shelf) Corned beef and cabbage from 11-30-7:00. True Gritt wil<span class="text_exposed_hide">...</span><span class="text_exposed_show">l be playing 8:30-12:30! Meat raffle starts at 4:00 and bingo starts at 5:30 with a must go $750.00 black out!! See you at the club!!!</span>
LOCATION:420 E Washington Ave Fergus Falls\, Minnesota
UID:e.314.38918
SEQUENCE:3
DTSTAMP:20260424T225141Z
URL:https://business.fergusfalls.com/events/details/o-fun-and-o-shenanigans-the-vfw-38918
END:VEVENT

END:VCALENDAR
