BEGIN:VCALENDAR
VERSION:2.0
PRODID:-//ChamberMaster//Event Calendar 2.0//EN
METHOD:PUBLISH
X-PUBLISHED-TTL:P3D
REFRESH-INTERVAL:P3D
CALSCALE:GREGORIAN
BEGIN:VEVENT
DTSTART:20151108T010000Z
DTEND:20151108T030000Z
X-MICROSOFT-CDO-ALLDAYEVENT:FALSE
SUMMARY:"Oklahoma" the Musical
DESCRIPTION:Enjoy the energy\, dancing and music of "Oklahoma!" as performed by the Kennedy High School Students. Synopsis: There's a box social coming up (like a picnic)\, and Curly asks Laurey if she'll be his date. Trouble is\, Laurey thinks he's waited too long\, and in a fit of pique accepts an offer from the boorish Jud instead. Meanwhile\, Laurey's friend Ado Annie is also torn between two men: a cowboy named Will and a foreign peddler\, Ali Hakim. Both women struggle to know their own hearts before it's too late. Set in the Oklahoma territory in 1906\, this Rodgers and Hammerstein classic is sure to be great entertainment. On Broadway it played for an unprecedented 2\,212 performances. In Fergus Falls you only have five chances to see the show.
X-ALT-DESC;FMTTYPE=text/html:Enjoy the energy\, dancing and music of &quot\;Oklahoma!&quot\; as performed by the Kennedy High School Students. Synopsis: There&#39\;s a box social coming up (like a picnic)\, and Curly asks Laurey if she&#39\;ll be his date. Trouble is\, Laurey thinks he&#39\;s waited too long\, and in a fit of pique accepts an offer from the boorish Jud instead. Meanwhile\, Laurey&#39\;s friend Ado Annie is also torn between two men: a cowboy named Will and a foreign peddler\, Ali Hakim. Both women struggle to know their own hearts before it&#39\;s too late. Set in the Oklahoma territory in 1906\, this Rodgers and Hammerstein classic is sure to be great entertainment. On Broadway it played for an unprecedented 2\,212 performances. In Fergus Falls you only have five chances to see the show.
LOCATION:Kennedy High School Auditorium
UID:e.314.25953
SEQUENCE:3
DTSTAMP:20260426T011253Z
URL:https://business.fergusfalls.com/events/details/oklahoma-the-musical-11-07-2015-25953
END:VEVENT

END:VCALENDAR
