BEGIN:VCALENDAR
VERSION:2.0
PRODID:-//ChamberMaster//Event Calendar 2.0//EN
METHOD:PUBLISH
X-PUBLISHED-TTL:P3D
REFRESH-INTERVAL:P3D
CALSCALE:GREGORIAN
BEGIN:VEVENT
DTSTART:20151031T150000Z
DTEND:20151101T010000Z
X-MICROSOFT-CDO-ALLDAYEVENT:FALSE
SUMMARY:Old Crow Tattoo
DESCRIPTION:Old Crow Tattoo Co Opens! \n\nParlor opens\, ribbon ceremony\, Halloween costume contest!
X-ALT-DESC;FMTTYPE=text/html:<strong>Old Crow Tattoo Co Opens! </strong><br />\n<em><span class="fsl">Parlor opens\, ribbon ceremony\, Halloween costume contest!</span></em>
LOCATION:104 S Mill St Fergus Falls
UID:e.314.25086
SEQUENCE:3
DTSTAMP:20260426T025920Z
URL:https://business.fergusfalls.com/events/details/old-crow-tattoo-10-31-2015-25086
END:VEVENT

END:VCALENDAR
