BEGIN:VCALENDAR
VERSION:2.0
PRODID:-//ChamberMaster//Event Calendar 2.0//EN
METHOD:PUBLISH
X-PUBLISHED-TTL:P3D
REFRESH-INTERVAL:P3D
CALSCALE:GREGORIAN
BEGIN:VEVENT
DTSTART:20180708T000000Z
DTEND:20180708T020000Z
X-MICROSOFT-CDO-ALLDAYEVENT:FALSE
SUMMARY:Old Time Music and Dance
DESCRIPTION:In celebration of Otter Tail County's 150th birthday\, we'll be holding three old time dance events with live music by the Red Herring Stringband. It's a good time for the whole family. We'll be calling some squares\, as well as playing for couple dances\, waltzes and polkas. All dances will be taught\, no previous experience necessary. Come and listen\, come and dance. everyone is welcome. Saturday\, July 7th we'll be in New York Mills\, September 8th we'll be at the Dalton Opera House\, during the Thresher's Reunion\, and October 6th we'll be playing at the Fergus Falls Eagles. Come to one\, come to all. All events start at 7 PM\, except Dalton which starts at 2:30 PM after the downtown parade.
X-ALT-DESC;FMTTYPE=text/html:In celebration of Otter Tail County&#39\;s 150th birthday\, we&#39\;ll be holding three old time dance events with live music by the Red Herring Stringband. It&#39\;s a good time for the whole family. We&#39\;ll be calling some squares\, as well as playing for couple dances\, waltzes and polkas. All dances will be taught\, no previous experience necessary. Come and listen\, come and dance. everyone is welcome. Saturday\, July 7th we&#39\;ll be in New York Mills\, September 8th we&#39\;ll be at the Dalton Opera House\, during the Thresher&#39\;s Reunion\, and October 6th we&#39\;ll be playing at the Fergus Falls Eagles. Come to one\, come to all. All events start at 7 PM\, except Dalton which starts at 2:30 PM after the downtown parade.
LOCATION:New York Mills Cultural Center
UID:e.314.48916
SEQUENCE:3
DTSTAMP:20260423T195754Z
URL:https://business.fergusfalls.com/events/details/old-time-music-and-dance-07-07-2018-48916
END:VEVENT

END:VCALENDAR
