BEGIN:VCALENDAR
VERSION:2.0
PRODID:-//ChamberMaster//Event Calendar 2.0//EN
METHOD:PUBLISH
X-PUBLISHED-TTL:P3D
REFRESH-INTERVAL:P3D
CALSCALE:GREGORIAN
BEGIN:VEVENT
DTSTART:20181007T000000Z
DTEND:20181007T020000Z
X-MICROSOFT-CDO-ALLDAYEVENT:FALSE
SUMMARY:Old Time Music and Dance
DESCRIPTION:In celebration of Otter Tail County's 150th birthday\, we'll be holding an old-time dance with live music by the Red Herring Stringband. We'll be calling some squares\, as well as playing for couple dances\; waltzes and polkas. All dances will be taught\, no previous experience necessary. Come and listen\, come and dance. everyone is welcome. NO partner necessary. Family Friendly.
X-ALT-DESC;FMTTYPE=text/html:In celebration of Otter Tail County&#39\;s 150th birthday\, we&#39\;ll be holding an old-time dance with live music by the Red Herring Stringband. We&#39\;ll be calling some squares\, as well as playing for couple dances\; waltzes and polkas. All dances will be taught\, no previous experience necessary. Come and listen\, come and dance. everyone is welcome. NO partner necessary. Family Friendly.
LOCATION:Fergus Falls Eagles Aerie ("The Ship") 120 S Peck St Fergus Falls\, MN
UID:e.314.48918
SEQUENCE:3
DTSTAMP:20260423T163620Z
URL:https://business.fergusfalls.com/events/details/old-time-music-and-dance-10-06-2018-48918
END:VEVENT

END:VCALENDAR
