BEGIN:VCALENDAR
VERSION:2.0
PRODID:-//ChamberMaster//Event Calendar 2.0//EN
METHOD:PUBLISH
X-PUBLISHED-TTL:P3D
REFRESH-INTERVAL:P3D
CALSCALE:GREGORIAN
BEGIN:VEVENT
DTSTART:20180610T000000Z
DTEND:20180610T000000Z
X-MICROSOFT-CDO-ALLDAYEVENT:FALSE
SUMMARY:Old Time Music and Dance
DESCRIPTION:In honor of Otter Tail County's 150th birthday we will be holding four old-time music events. The first is at the old town hall in Star Lake. The Red Herring String band will be playing old time music and we hope that people will come on out to listen and dance. We'll be calling some squares\, and playing for couples dances: waltzes\, polkas and schottisches. We'll be doing some brief teaching\, before each dance\, so bring your grandma\, bring your sweetheart\, bring your grandchildren\, no prior experience is necessary. It's just a fun time for the whole family. July 7th we'll be in New York Mills\, September 8th at the Dalton Opera House\, and October 6th at the Fergus Falls Eagles Club. All dances start at 7 PM\, except for Dalton which starts at 2:30 PM after the parade.
X-ALT-DESC;FMTTYPE=text/html:In honor of Otter Tail County&#39\;s 150th birthday we will be holding four old-time music events. The first is at the old town hall in Star Lake. The Red Herring String band will be playing old time music and we hope that people will come on out to listen and dance. We&#39\;ll be calling some squares\, and playing for couples dances: waltzes\, polkas and schottisches. We&#39\;ll be doing some brief teaching\, before each dance\, so bring your grandma\, bring your sweetheart\, bring your grandchildren\, no prior experience is necessary. It&#39\;s just a fun time for the whole family. July 7th we&#39\;ll be in New York Mills\, September 8th at the Dalton Opera House\, and October 6th at the Fergus Falls Eagles Club. All dances start at 7 PM\, except for Dalton which starts at 2:30 PM after the parade.
LOCATION:Star Lake Town Hall
UID:e.314.48915
SEQUENCE:3
DTSTAMP:20260423T225535Z
URL:https://business.fergusfalls.com/events/details/old-time-music-and-dance-48915
END:VEVENT

END:VCALENDAR
