BEGIN:VCALENDAR
VERSION:2.0
PRODID:-//ChamberMaster//Event Calendar 2.0//EN
METHOD:PUBLISH
X-PUBLISHED-TTL:P3D
REFRESH-INTERVAL:P3D
CALSCALE:GREGORIAN
BEGIN:VEVENT
DTSTART:20191018T000000Z
DTEND:20191018T013000Z
X-MICROSOFT-CDO-ALLDAYEVENT:FALSE
SUMMARY:Old Time Music with Dennis Baumann
DESCRIPTION:Dennis Baumann plays old time music\, waltzes\, polkas and schottisches on the fiddle. Eighty six years old\, he's full of vigor and warmth\, and as one of the last of the old-time fiddlers he remembers and keeps this music alive for future generations.
X-ALT-DESC;FMTTYPE=text/html:Dennis Baumann plays old time music\, waltzes\, polkas and schottisches on the fiddle. Eighty six years old\, he&#39\;s full of vigor and warmth\, and as one of the last of the old-time fiddlers he remembers and keeps this music alive for future generations.
LOCATION:Otter Tail County Historical Society
UID:e.314.54782
SEQUENCE:3
DTSTAMP:20260422T221947Z
URL:https://business.fergusfalls.com/events/details/old-time-music-with-dennis-baumann-54782
END:VEVENT

END:VCALENDAR
