BEGIN:VCALENDAR
VERSION:2.0
PRODID:-//ChamberMaster//Event Calendar 2.0//EN
METHOD:PUBLISH
X-PUBLISHED-TTL:P3D
REFRESH-INTERVAL:P3D
CALSCALE:GREGORIAN
BEGIN:VEVENT
DTSTART:20171202T210000Z
DTEND:20171202T220000Z
X-MICROSOFT-CDO-ALLDAYEVENT:FALSE
SUMMARY:Olson Funeral Home Service of Remembrance
DESCRIPTION:Service of Remembrance\n\nA time to pay tribute to those we have loved and lost.\n\nWhether your loss is new or decades old\,\n\nwhether we've served your family or not\,\n\nwe invite you to enjoy this special time\n\nof music\, message and reflection.\n\nA memorial ornament will be\n\ngiven to each family represented.
X-ALT-DESC;FMTTYPE=text/html:<div style="text-align: center\;"><span style="font-family:tahoma\;"><em><span style="font-size:28px\;">Service of Remembrance</span></em></span><br />\n<span style="font-size:14px\;"><span style="font-family:tahoma\;">A time to pay tribute to those we have loved and lost.<br />\nWhether your loss is new or decades old\,<br />\nwhether we&rsquo\;ve served your family or not\,<br />\nwe invite you to enjoy this special time<br />\nof music\, message and reflection.<br />\nA memorial ornament will be<br />\ngiven to each family represented.</span></span></div>\n
LOCATION:Olson Funeral Home Chapel 711 Pebble Lake Road\, Fergus Falls\, MN
UID:e.314.43024
SEQUENCE:3
DTSTAMP:20260424T074342Z
URL:https://business.fergusfalls.com/events/details/olson-funeral-home-service-of-remembrance-43024
END:VEVENT

END:VCALENDAR
