BEGIN:VCALENDAR
VERSION:2.0
PRODID:-//ChamberMaster//Event Calendar 2.0//EN
METHOD:PUBLISH
X-PUBLISHED-TTL:P3D
REFRESH-INTERVAL:P3D
CALSCALE:GREGORIAN
BEGIN:VEVENT
DTSTART;VALUE=DATE:20190624
DTEND;VALUE=DATE:20190629
TRANSP:TRANSPARENT
X-MICROSOFT-CDO-ALLDAYEVENT:TRUE
SUMMARY:Olson Oil's Car Wash Grand Re-Opening
DESCRIPTION:Olson Oil's Car Wash Grand Re-Opening is June 24-28. Come experience the power of fighting grime with our new hand wash power washers and hand dry blowers.\n\n\n\nThe ...Main Event is Wednesday and Thursday when car wash prices rollback sixty years to only 25 cents! Along with Free Lunch and SWAG from 11-1\, including Propane Refills for $10!\n\nSee Dean to lock-in your Best Winter Fuel Contract!\n\n\n\nRegister all week for Prizes to be drawn July 1st! And watch for our Facebook Photo Contest where you can WIN CAR WASHES for a Year! Olson Oil\, where "We Are The Car Wash\, We Are the Car Wash\, (come on sing it with us)\, We Are the Car Wash of Fergus Falls!"
X-ALT-DESC;FMTTYPE=text/html:Olson Oil&#39\;s Car Wash Grand Re-Opening is June 24-28. Come experience the power of fighting grime with our new hand wash power washers and hand dry blowers.<br />\n<br />\nThe <span class="text_exposed_hide">...</span><span class="text_exposed_show">Main Event is Wednesday and Thursday when car wash prices rollback sixty years to only 25 cents! Along with Free Lunch and SWAG from 11-1\, including Propane Refills for $10!<br />\nSee Dean to lock-in your Best Winter Fuel Contract!<br />\n<br />\nRegister all week for Prizes to be drawn July 1st! And watch for our Facebook Photo Contest where you can WIN CAR WASHES for a Year! Olson Oil\, where &quot\;We Are The Car Wash\, We Are the Car Wash\, (come on sing it with us)\, We Are the Car Wash of Fergus Falls!&quot\;</span>
LOCATION:Olson Oil Company\, Inc. 1425 W Lincoln Ave.
UID:e.314.54123
SEQUENCE:3
DTSTAMP:20260423T051057Z
URL:https://business.fergusfalls.com/events/details/olson-oil-s-car-wash-grand-re-opening-54123
END:VEVENT

END:VCALENDAR
