BEGIN:VCALENDAR
VERSION:2.0
PRODID:-//ChamberMaster//Event Calendar 2.0//EN
METHOD:PUBLISH
X-PUBLISHED-TTL:P3D
REFRESH-INTERVAL:P3D
CALSCALE:GREGORIAN
BEGIN:VEVENT
DTSTART:20160202T230000Z
DTEND:20160203T013000Z
X-MICROSOFT-CDO-ALLDAYEVENT:FALSE
SUMMARY:OLV Community Carnival
DESCRIPTION:Community Carnival! Fun times! Kids games\, Bingo for all ages\, treat walk\, kids raffle\, cotton candy\, snowcones\, popcorn\, corndogs\, nacho chips and pizza. Everyone is invited! Spread the word!
X-ALT-DESC;FMTTYPE=text/html:<span class="fsl">Community Carnival! Fun times! Kids games\, Bingo for all ages\, treat walk\, kids raffle\, cotton candy\, snowcones\, popcorn\, corndogs\, nacho chips and pizza. Everyone is invited! Spread the word!</span>
LOCATION:Our Lady of Victory Catholic School 426 W Cavour Ave\, Fergus Falls
UID:e.314.30071
SEQUENCE:3
DTSTAMP:20260425T200700Z
URL:https://business.fergusfalls.com/events/details/olv-community-carnival-02-02-2016-30071
END:VEVENT

END:VCALENDAR
