BEGIN:VCALENDAR
VERSION:2.0
PRODID:-//ChamberMaster//Event Calendar 2.0//EN
METHOD:PUBLISH
X-PUBLISHED-TTL:P3D
REFRESH-INTERVAL:P3D
CALSCALE:GREGORIAN
BEGIN:VEVENT
DTSTART:20160219T230000Z
DTEND:20160220T010000Z
X-MICROSOFT-CDO-ALLDAYEVENT:FALSE
SUMMARY:OLV Fish FRIES
DESCRIPTION:OLV Fish Fries\n\nFridays During Lent - Everyone Welcome\n\n5-7pm\n\n\n\nServing: Batter Fried Walleye\, Au Gratin potato Coleslaw\, Roll\, Dessert\, & Beverage
X-ALT-DESC;FMTTYPE=text/html:<strong>OLV Fish Fries<br />\nFridays During Lent - Everyone Welcome</strong><br />\n5-7pm<br />\n<br />\n<strong>Serving</strong>: Batter Fried Walleye\, Au Gratin potato Coleslaw\, Roll\, Dessert\, &amp\; Beverage<br />\n&nbsp\;
LOCATION:OLV 207 Vine St Fergus Falls Served in the Gym - Handicapped accessible Take out Meals Available Extra Serving of Walleye available for additional fee
UID:e.314.31324
SEQUENCE:3
DTSTAMP:20260425T214831Z
URL:https://business.fergusfalls.com/events/details/olv-fish-fries-02-19-2016-31324
END:VEVENT

END:VCALENDAR
