BEGIN:VCALENDAR
VERSION:2.0
PRODID:-//ChamberMaster//Event Calendar 2.0//EN
METHOD:PUBLISH
X-PUBLISHED-TTL:P3D
REFRESH-INTERVAL:P3D
CALSCALE:GREGORIAN
BEGIN:VEVENT
DTSTART:20170324T220000Z
DTEND:20170325T000000Z
X-MICROSOFT-CDO-ALLDAYEVENT:FALSE
SUMMARY:OLV Fish Fries
DESCRIPTION:OLV Fish Fries\n\nEvery Friday during Lent\n\nServing: Walleye\, potatoes\, coleslaw\, roll\, bars and beverage.
X-ALT-DESC;FMTTYPE=text/html:OLV Fish Fries<br />\nEvery Friday during Lent<br />\nServing: Walleye\, potatoes\, coleslaw\, roll\, bars and beverage.<br />\n&nbsp\;
LOCATION:Our Lady of Victory Parish 207 N Vine St. Fergus Falls MN 56537
UID:e.314.38902
SEQUENCE:3
DTSTAMP:20260424T205840Z
URL:https://business.fergusfalls.com/events/details/olv-fish-fries-38902
END:VEVENT

END:VCALENDAR
