BEGIN:VCALENDAR
VERSION:2.0
PRODID:-//ChamberMaster//Event Calendar 2.0//EN
METHOD:PUBLISH
X-PUBLISHED-TTL:P3D
REFRESH-INTERVAL:P3D
CALSCALE:GREGORIAN
BEGIN:VEVENT
DTSTART:20151208T150000Z
DTEND:20151209T000000Z
X-MICROSOFT-CDO-ALLDAYEVENT:FALSE
SUMMARY:One Year Celebration at Attitudes for Hair
DESCRIPTION:One Year Celebration at the new location: 2007 Tower View Rd.\n\nTreats & Hors D'Oeuvres\n\nDaily Prizes\n\nHoliday Shopping -- fun gift sets
X-ALT-DESC;FMTTYPE=text/html:One Year Celebration at the new location: 2007 Tower View Rd.<br />\nTreats &amp\; Hors D&#39\;Oeuvres<br />\nDaily Prizes<br />\nHoliday Shopping -- fun gift sets
LOCATION:Attitudes for Hair 2007 Tower View Rd (north of Fergus Falls on Co. Rd. 27/Jewett Lake Rd.) Fergus Falls\, MN
UID:e.314.27145
SEQUENCE:3
DTSTAMP:20260426T011552Z
URL:https://business.fergusfalls.com/events/details/one-year-celebration-at-attitudes-for-hair-12-08-2015-27145
END:VEVENT

END:VCALENDAR
