BEGIN:VCALENDAR
VERSION:2.0
PRODID:-//ChamberMaster//Event Calendar 2.0//EN
METHOD:PUBLISH
X-PUBLISHED-TTL:P3D
REFRESH-INTERVAL:P3D
CALSCALE:GREGORIAN
BEGIN:VEVENT
DTSTART:20200331T210000Z
DTEND:20200331T230000Z
X-MICROSOFT-CDO-ALLDAYEVENT:FALSE
SUMMARY:Online Kindergarten Registration - OLV
DESCRIPTION:Our Lady of Victory School will hold its Kindergarten Registration event online on Tuesday\, March 31st at 4 pm via Zoom. Interested parents can join the meeting at the following link: https://zoom.us/j/805383006 meeting ID: 805 383 006. If you are joining the meeting on a cell phone\, you need to download the app first. For more information call the school office at 736-6661 or email at lkunde@ffolv.org.
X-ALT-DESC;FMTTYPE=text/html:<table border="0" cellpadding="0" cellspacing="0">\n	<tbody>\n		<tr>\n			<td style="padding:3.75pt 3.75pt 3.75pt 3.75pt\;"><span style="font-family:arial\,sans-serif\;"><span style="font-size:10.0pt\;">Our Lady of Victory School will hold its Kindergarten Registration event online on Tuesday\, March 31st at 4 pm via Zoom. Interested parents can join the meeting at the following link: <a href="https://zoom.us/j/805383006">https://zoom.us/j/805383006</a> meeting ID: 805 383 006. If you are joining the meeting on a cell phone\, you need to download the app first. For more information call the school office at 736-6661 or email at <a href="mailto:lkunde@ffolv.org">lkunde@ffolv.org</a>.</span></span></td>\n		</tr>\n	</tbody>\n</table>\n
LOCATION:https://zoom.us/j/805383006
UID:e.314.57364
SEQUENCE:3
DTSTAMP:20260422T125530Z
URL:https://business.fergusfalls.com/events/details/online-kindergarten-registration-olv-57364
END:VEVENT

END:VCALENDAR
