BEGIN:VCALENDAR
VERSION:2.0
PRODID:-//ChamberMaster//Event Calendar 2.0//EN
METHOD:PUBLISH
X-PUBLISHED-TTL:P3D
REFRESH-INTERVAL:P3D
CALSCALE:GREGORIAN
BEGIN:VEVENT
DTSTART:20160414T210000Z
DTEND:20160414T230000Z
X-MICROSOFT-CDO-ALLDAYEVENT:FALSE
SUMMARY:OPEN HOUSE - 319 East Vernon\, Fergus Falls\, MN 56537
DESCRIPTION:PLEASE SHARE! OPEN HOUSE\, this Thursday\, April 14th\, at 319 East Vernon Avenue in Fergus Falls from 4:00 - 6:00 pm. Don't miss out on viewing this turn of the century home with tons of character and charm! It is priced right at $160\,000!
X-ALT-DESC;FMTTYPE=text/html:<span style="color: rgb(20\, 24\, 35)\; font-family: helvetica\,arial\,sans-serif\; font-size: 14px\;"><strong>PLEASE SHARE! OPEN HOUSE</strong>\, this </span><span style="color: rgb(255\, 0\, 0)\;"><span style="font-family: helvetica\,arial\,sans-serif\; font-size: 14px\;"><strong>Thursday\, April 14th\, at 319 East Vernon Avenue</strong></span></span><span style="color: rgb(20\, 24\, 35)\; font-family: helvetica\,arial\,sans-serif\; font-size: 14px\;"> i</span><strong><span style="color: rgb(255\, 0\, 0)\;"><span style="font-family: helvetica\,arial\,sans-serif\; font-size: 14px\;">n Fergus Falls from<span style="color: rgb(20\, 24\, 35)\; font-family: helvetica\,arial\,sans-serif\; font-size: 14px\;"> </span>4:00 - 6:00 pm</span></span></strong><span style="color: rgb(20\, 24\, 35)\; font-family: helvetica\,arial\,sans-serif\; font-size: 14px\;">. Don&#39\;t miss out on viewing this turn of the century home with tons of character and charm! It is priced right at $160\,000!</span><br />\n<br />\n&nbsp\;
LOCATION:319 East Vernon\, Fergus Falls\, MN
UID:e.314.32626
SEQUENCE:3
DTSTAMP:20260425T163654Z
URL:https://business.fergusfalls.com/events/details/open-house-319-east-vernon-fergus-falls-mn-56537-04-14-2016-32626
END:VEVENT

END:VCALENDAR
