BEGIN:VCALENDAR
VERSION:2.0
PRODID:-//ChamberMaster//Event Calendar 2.0//EN
METHOD:PUBLISH
X-PUBLISHED-TTL:P3D
REFRESH-INTERVAL:P3D
CALSCALE:GREGORIAN
BEGIN:VEVENT
DTSTART:20161209T200000Z
DTEND:20161209T220000Z
X-MICROSOFT-CDO-ALLDAYEVENT:FALSE
SUMMARY:Open House - Celebrating Adult Day Alternatives
DESCRIPTION:Open House! \n\n\n\nPlease join Productive Alternatives in celebrating the opening of our Adult Day Alternatives.\n\nStop by to meet the staff\, tour the facility\, and enjoy some refreshments on Friday\, Dec. 9th\, between 2pm and 4pm.\n\nWe are located at 1017 North Tower Rd.
X-ALT-DESC;FMTTYPE=text/html:<span style="font-family: times new roman\;"><span style="font-size: 18px\;"><font color="#000000"><strong><em>Open House! </em></strong></font></span><br />\n<br />\n<font color="#000000" size="3">Please join Productive Alternatives in celebrating the opening of our Adult Day Alternatives.<br />\nStop by to meet the staff\, tour the facility\, and enjoy some refreshments on Friday\, Dec. 9th\, between 2pm and 4pm.</font><br />\n<font color="#000000" size="3">We are located at 1017 North Tower Rd.&nbsp\; </font></span>
LOCATION:Productive Alternatives\, Inc. 1017 N. Tower Rd. Fergus Falls\, MN
UID:e.314.36989
SEQUENCE:3
DTSTAMP:20260425T040300Z
URL:https://business.fergusfalls.com/events/details/open-house-celebrating-adult-day-alternatives-36989
END:VEVENT

END:VCALENDAR
