BEGIN:VCALENDAR
VERSION:2.0
PRODID:-//ChamberMaster//Event Calendar 2.0//EN
METHOD:PUBLISH
X-PUBLISHED-TTL:P3D
REFRESH-INTERVAL:P3D
CALSCALE:GREGORIAN
BEGIN:VEVENT
DTSTART:20171104T150000Z
DTEND:20171104T210000Z
X-MICROSOFT-CDO-ALLDAYEVENT:FALSE
SUMMARY:Open House - Cora's Closet
DESCRIPTION:Cora's Closet Upscale Consignment\n\nOpen House - Riverfront Square\n\nCoffee * Cider * & Refreshments\n\nDrawing for special sales and gift certificate!
X-ALT-DESC;FMTTYPE=text/html:Cora&#39\;s Closet Upscale Consignment<br />\nOpen House - Riverfront Square<br />\nCoffee * Cider * &amp\; Refreshments<br />\nDrawing for special sales and gift certificate!
LOCATION:Riverfront Square 221 W Lincoln Ave Downtown Fergus Falls
UID:e.314.42879
SEQUENCE:3
DTSTAMP:20260424T073758Z
URL:https://business.fergusfalls.com/events/details/open-house-cora-s-closet-42879
END:VEVENT

END:VCALENDAR
