BEGIN:VCALENDAR
VERSION:2.0
PRODID:-//ChamberMaster//Event Calendar 2.0//EN
METHOD:PUBLISH
X-PUBLISHED-TTL:P3D
REFRESH-INTERVAL:P3D
CALSCALE:GREGORIAN
BEGIN:VEVENT
DTSTART:20170331T183000Z
DTEND:20170331T213000Z
X-MICROSOFT-CDO-ALLDAYEVENT:FALSE
SUMMARY:Open House for Fire Chief Mark "Sparky" Hovland
DESCRIPTION:Please join us in thanking Fire Chief Mark "Sparky" Hovland for his 37 years of service to the City of Fergus Falls at his retirement party on Friday March 31. An open house in his honor will be held this day from 1:30-4:30 at the Fire Station. Please come and thank him for his service and wish him well during his retirement.
X-ALT-DESC;FMTTYPE=text/html:<span aria-live="polite" class="fbPhotosPhotoCaption" data-ft="{&quot\;tn&quot\;:&quot\;K&quot\;}" id="fbPhotoSnowliftCaption" tabindex="0"><span class="hasCaption">Please join us in thanking Fire Chief Mark &quot\;Sparky&quot\; Hovland for his 37 years of service to the City of Fergus Falls at his retirement party on Friday March 31. An open house in his honor will be held this day from 1:30-4:30 at the Fire Station. Please come and thank him for his service and wish him well during his retirement.</span></span>
LOCATION:
UID:e.314.40004
SEQUENCE:3
DTSTAMP:20260424T211044Z
URL:https://business.fergusfalls.com/events/details/open-house-for-fire-chief-mark-sparky-hovland-40004
END:VEVENT

END:VCALENDAR
