BEGIN:VCALENDAR
VERSION:2.0
PRODID:-//ChamberMaster//Event Calendar 2.0//EN
METHOD:PUBLISH
X-PUBLISHED-TTL:P3D
REFRESH-INTERVAL:P3D
CALSCALE:GREGORIAN
BEGIN:VEVENT
DTSTART:20151114T180000Z
DTEND:20151114T220000Z
X-MICROSOFT-CDO-ALLDAYEVENT:FALSE
SUMMARY:Open House - Hoot Lake
DESCRIPTION:Hoot lake home offers 3 Bedrooms\, 3 bath\, 260' of lake frontage. LAKE LIVING IN CITY LIMITS! $324\,900
X-ALT-DESC;FMTTYPE=text/html:Hoot lake home offers 3 Bedrooms\, 3 bath\, 260&#39\; of lake frontage. LAKE LIVING IN CITY LIMITS! $324\,900
LOCATION:1709 Minnehuta Drive
UID:e.314.26460
SEQUENCE:3
DTSTAMP:20260426T025401Z
URL:https://business.fergusfalls.com/events/details/open-house-hoot-lake-11-14-2015-26460
END:VEVENT

END:VCALENDAR
