BEGIN:VCALENDAR
VERSION:2.0
PRODID:-//ChamberMaster//Event Calendar 2.0//EN
METHOD:PUBLISH
X-PUBLISHED-TTL:P3D
REFRESH-INTERVAL:P3D
CALSCALE:GREGORIAN
BEGIN:VEVENT
DTSTART:20181029T150000Z
DTEND:20181029T170000Z
X-MICROSOFT-CDO-ALLDAYEVENT:FALSE
SUMMARY:Open House - MN Rural CEP
DESCRIPTION:Making Employment Dreams\n\na Reality for 50 Years\n\n1968-2018\n\n\n\nPlease join us at our OPEN HOUSE\n\nMonday\, October 29th\, 10am-12pm\n\nCake and Coffee to be served.
X-ALT-DESC;FMTTYPE=text/html:<strong style="color: rgb(51\, 51\, 51)\; font-family: sans-serif\, Arial\, Verdana\, &quot\;Trebuchet MS&quot\;\; font-size: 13px\;"><em><span style="color: black\;"><span style="font-family: &quot\;baskerville old face&quot\;\, serif\;"><span style="font-size: 26pt\;">Making Employment Dreams</span></span></span></em></strong><br style="color: rgb(51\, 51\, 51)\; font-family: sans-serif\, Arial\, Verdana\, &quot\;Trebuchet MS&quot\;\; font-size: 13px\;" />\n<strong style="color: rgb(51\, 51\, 51)\; font-family: sans-serif\, Arial\, Verdana\, &quot\;Trebuchet MS&quot\;\; font-size: 13px\;"><em><span style="color: black\;"><span style="font-family: &quot\;baskerville old face&quot\;\, serif\;"><span style="font-size: 26pt\;">a Reality for&nbsp\;</span></span></span></em></strong><strong style="color: rgb(51\, 51\, 51)\; font-family: sans-serif\, Arial\, Verdana\, &quot\;Trebuchet MS&quot\;\; font-size: 13px\;"><em><span style="color: rgb(28\, 57\, 114)\;"><span style="font-family: &quot\;baskerville old face&quot\;\, serif\;"><span style="font-size: 40pt\;">50</span></span></span></em></strong><strong style="color: rgb(51\, 51\, 51)\; font-family: sans-serif\, Arial\, Verdana\, &quot\;Trebuchet MS&quot\;\; font-size: 13px\;"><em><span style="font-family: &quot\;baskerville old face&quot\;\, serif\;"><span style="font-size: 26pt\;">&nbsp\;Years</span></span></em></strong><br style="color: rgb(51\, 51\, 51)\; font-family: sans-serif\, Arial\, Verdana\, &quot\;Trebuchet MS&quot\;\; font-size: 13px\;" />\n<strong style="color: rgb(51\, 51\, 51)\; font-family: sans-serif\, Arial\, Verdana\, &quot\;Trebuchet MS&quot\;\; font-size: 13px\;"><em><span style="font-family: &quot\;baskerville old face&quot\;\, serif\;"><span style="font-size: 20pt\;">1968-2018</span></span></em></strong><br />\n<br />\n<strong><span style="color:black\;"><span style="font-family:baskerville old face\,serif\;"><span style="font-size:18.0pt\;">Please join us at</span></span></span></strong><span style="color:black\;"><span style="font-family:baskerville old face\,serif\;"><span style="font-size:18.0pt\;"> our </span></span></span><strong><span style="color:#1C3972\;"><span style="font-family:baskerville old face\,serif\;"><span style="font-size:18.0pt\;">OPEN HOUSE</span></span></span></strong><br />\n<strong><span style="color:#1C3972\;"><span style="font-family:baskerville old face\,serif\;"><span style="font-size:18.0pt\;">Monday\, October 29<sup>th</sup></span></span></span></strong><span style="color:black\;"><span style="font-family:baskerville old face\,serif\;"><span style="font-size:18.0pt\;">\, 10am-12pm</span></span></span><br />\n<span style="color:black\;"><span style="font-family:baskerville old face\,serif\;"><span style="font-size:18.0pt\;">Cake and Coffee to be served.</span></span></span>
LOCATION:125 W Lincoln Ave Suite 1 Fergus Falls\, MN
UID:e.314.50463
SEQUENCE:3
DTSTAMP:20260423T163421Z
URL:https://business.fergusfalls.com/events/details/open-house-mn-rural-cep-50463
END:VEVENT

END:VCALENDAR
