BEGIN:VCALENDAR
VERSION:2.0
PRODID:-//ChamberMaster//Event Calendar 2.0//EN
METHOD:PUBLISH
X-PUBLISHED-TTL:P3D
REFRESH-INTERVAL:P3D
CALSCALE:GREGORIAN
BEGIN:VEVENT
DTSTART:20171116T220000Z
DTEND:20171117T020000Z
X-MICROSOFT-CDO-ALLDAYEVENT:FALSE
SUMMARY:Open House New Beginnings - Cross Fit 1919
DESCRIPTION:OPEN HOUSE \n\nNEW OWNERSHIP \n\nNEW EQUIPMENT \n\nREDESIGNED LAYOUT \n\n  FOOD   PRIZES   TOURS   FAMILY FUN
X-ALT-DESC;FMTTYPE=text/html:<p align="LEFT">&nbsp\;</p>\n\n<p><b><font size="7">OPEN HOUSE </font></b></p>\n\n<p align="LEFT"><b><font size="5">NEW OWNERSHIP </font></b></p>\n\n<p><b><font size="5">NEW EQUIPMENT </font></b></p>\n\n<p><b><font size="5">REDESIGNED LAYOUT </font></b></p>\n\n<p><span style="font-size: 14px\;"><b><b>&nbsp\;&bull\;FOOD </b></b><strong>&bull\;</strong><b><b> PRIZES &bull\; TOURS &bull\; FAMILY FUN </b></b></span></p>\n
LOCATION:216 W. Cavour Ave
UID:e.314.43020
SEQUENCE:3
DTSTAMP:20260424T091951Z
URL:https://business.fergusfalls.com/events/details/open-house-new-beginnings-cross-fit-1919-43020
END:VEVENT

END:VCALENDAR
