BEGIN:VCALENDAR
VERSION:2.0
PRODID:-//ChamberMaster//Event Calendar 2.0//EN
METHOD:PUBLISH
X-PUBLISHED-TTL:P3D
REFRESH-INTERVAL:P3D
CALSCALE:GREGORIAN
BEGIN:VEVENT
DTSTART:20171005T160000Z
DTEND:20171005T180000Z
X-MICROSOFT-CDO-ALLDAYEVENT:FALSE
SUMMARY:Open House @ Northern Contours
DESCRIPTION:Open House - Celebrating 25 Years of Innovation & Manufacturers Appreciation Week - Northern Contours\n\n\n\nWe are celebrating our 25th Anniversary during Manufacturers Appreciation Week on Thursday\, October 5 with an Open House\, FREE lunch\, guided tours and prizes from 11:00am-1:00pm at our veneer plant\, (1330 E. Hwy. 210). Open to the public and fellow manufacturers. Hope to see you!
X-ALT-DESC;FMTTYPE=text/html:<span style="font-size:14px\;"><span style="font-family:verdana\;"><strong>Open House - Celebrating 25 Years of Innovation &amp\; Manufacturers Appreciation Week - Northern Contours</strong><br />\n<br />\nWe are celebrating our 25th Anniversary during Manufacturers Appreciation Week on Thursday\, October 5 with an Open House\, FREE lunch\, guided tours and prizes from 11:00am-1:00pm at our veneer plant\, (1330 E. Hwy. 210). Open to the public and fellow manufacturers. Hope to see you!</span></span>
LOCATION:Northern Contours\, veneer plant 1330 E. Hwy. 210 Fergus Falls
UID:e.314.42650
SEQUENCE:3
DTSTAMP:20260424T092430Z
URL:https://business.fergusfalls.com/events/details/open-house-northern-contours-42650
END:VEVENT

END:VCALENDAR
