BEGIN:VCALENDAR
VERSION:2.0
PRODID:-//ChamberMaster//Event Calendar 2.0//EN
METHOD:PUBLISH
X-PUBLISHED-TTL:P3D
REFRESH-INTERVAL:P3D
CALSCALE:GREGORIAN
BEGIN:VEVENT
DTSTART:20181029T210000Z
DTEND:20181030T000000Z
X-MICROSOFT-CDO-ALLDAYEVENT:FALSE
SUMMARY:Open House - Orthopedic & Sports Physical Therapy Inc.
DESCRIPTION:Come celebrate Orthopedic & Sports Physical Therapy Inc. (OSPTI) 1 year anniversary open house. Appetizers and Beverages will be served.
X-ALT-DESC;FMTTYPE=text/html:Come celebrate Orthopedic &amp\; Sports Physical Therapy Inc. (OSPTI) 1 year anniversary open house. Appetizers and Beverages will be served.
LOCATION:322 N Tower Rd Fergus Falls\, MN
UID:e.314.50477
SEQUENCE:3
DTSTAMP:20260423T151155Z
URL:https://business.fergusfalls.com/events/details/open-house-orthopedic-sports-physical-therapy-inc-50477
END:VEVENT

END:VCALENDAR
