BEGIN:VCALENDAR
VERSION:2.0
PRODID:-//ChamberMaster//Event Calendar 2.0//EN
METHOD:PUBLISH
X-PUBLISHED-TTL:P3D
REFRESH-INTERVAL:P3D
CALSCALE:GREGORIAN
BEGIN:VEVENT
DTSTART:20210916T200000Z
DTEND:20210916T230000Z
X-MICROSOFT-CDO-ALLDAYEVENT:FALSE
SUMMARY:Open House Reception for Mary Phillipe
DESCRIPTION:United Way of Otter Tail & Wadena Counties Board of Directors invites you to Celebrate Mary Phillipe at an Open House Reception.\n\nPlease join us to celebrate and thank Mary for her 18 years of service to UWOTW. As Executive Director\, her knowledge\, creative energy and passionate dedication have made a difference in many people's lives. We applaud Mary's exemplary leadership\, service to our communities and impact on the United Way.
X-ALT-DESC;FMTTYPE=text/html:United Way of Otter Tail &amp\; Wadena Counties Board of Directors invites you to Celebrate Mary Phillipe at an Open House Reception.<br />\nPlease join us to celebrate and thank Mary for her 18 years of service to UWOTW. As Executive Director\, her knowledge\, creative energy and passionate dedication have made a difference in many people&#39\;s lives. We applaud Mary&#39\;s exemplary leadership\, service to our communities and impact on the United Way.
LOCATION:toast 116 S. Union Ave. Fergus Falls\, MN
UID:e.314.63594
SEQUENCE:3
DTSTAMP:20260421T083420Z
URL:https://business.fergusfalls.com/events/details/open-house-reception-for-mary-phillipe-63594
END:VEVENT

END:VCALENDAR
