BEGIN:VCALENDAR
VERSION:2.0
PRODID:-//ChamberMaster//Event Calendar 2.0//EN
METHOD:PUBLISH
X-PUBLISHED-TTL:P3D
REFRESH-INTERVAL:P3D
CALSCALE:GREGORIAN
BEGIN:VEVENT
DTSTART:20180814T190000Z
DTEND:20180814T203000Z
X-MICROSOFT-CDO-ALLDAYEVENT:FALSE
SUMMARY:Open House - Senior Living
DESCRIPTION:Join us for our open house on Tuesday\, August 14\, to see how LB Homes is the right fit for those seeking independent and assisted living senior apartments. Come to LB Sheridan House's dining room any time from 2pm to 3:30pm for delicious treats\, conversations\, giveaways\, and the chance to win a door prize. We'll take you on a tour of our campus\, so you can check out what we have to offer. It's never too late to start looking!\n\n\n\nRSVP - Call Tim Ehli at 218.998.1465 and let us know you'll attend.\n\n\n\nTo learn more about LB Homes\, visit our website:\n\nwww.LBHomes.org
X-ALT-DESC;FMTTYPE=text/html:<div class="_63ew" data-testid="event-permalink-details"><span>Join us for our open house on Tuesday\, August 14\, to see how LB Homes is the right fit for those seeking independent and assisted living senior apartments. Come to LB Sheridan House&#39\;s dining room any time from 2pm to 3:30pm for delicious treats\, conversations\, giveaways\, and the chance to win a door prize. We&#39\;ll take you on a tour of our campus\, so you can check out what we have to offer. It&#39\;s never too late to start looking!<br />\n<br />\nRSVP - Call Tim Ehli at 218.998.1465 and let us know you&#39\;ll attend.<br />\n<br />\nTo learn more about LB Homes\, visit our website:<br />\n<a data-lynx-mode="hover" data-lynx-uri="http://l.facebook.com/l.php?u=http%3A%2F%2Fwww.LBHomes.org%2F&amp\;h=AT3tfcTJczhOS_ffHweFafIn-Dvi7ptZKCe7SWjZuYxVE3kkXlcA7IRaU4afTylUP3TLIFdJ9Dvkf8RoDAV02pZxoRrf-OXTteP4mVRNAU4rG4uY4cWH8Bwa8fp-naXD" href="http://www.lbhomes.org/" rel="nofollow" target="_blank"><font color="#0066cc">www.LBHomes.org</font></a></span></div>\n
LOCATION:808 S Sheridan St\, Fergus Falls\, MN
UID:e.314.50315
SEQUENCE:3
DTSTAMP:20260423T181255Z
URL:https://business.fergusfalls.com/events/details/open-house-senior-living-50315
END:VEVENT

END:VCALENDAR
