BEGIN:VCALENDAR
VERSION:2.0
PRODID:-//ChamberMaster//Event Calendar 2.0//EN
METHOD:PUBLISH
X-PUBLISHED-TTL:P3D
REFRESH-INTERVAL:P3D
CALSCALE:GREGORIAN
BEGIN:VEVENT
DTSTART:20191010T160000Z
DTEND:20191010T200000Z
X-MICROSOFT-CDO-ALLDAYEVENT:FALSE
SUMMARY:Open House - Thrivent Financial
DESCRIPTION:At Thrivent Financial\, our purpose is to strengthen Christian communities by helping people be wise with money and inspiring them to live generously. We hope you'll join us for this fun event! Please join us in welcoming our new Team Member\, Ryan Jacobson!\n\nStop in to get a tour of our office remodel!\n\nWe will  be serving coffee\, cookies\, and cider!
X-ALT-DESC;FMTTYPE=text/html:<span style="font-size:12px\;"><span style="font-family:tahoma\;"><span style="color:#0A0A0A\;">At Thrivent Financial\, our purpose is to strengthen Christian communities by helping people be wise with money and inspiring them to live generously. We hope you&#39\;ll join us for this fun event!&nbsp\;</span><strong>Please join us in welcoming our new Team Member\, Ryan Jacobson!</strong><br />\n<strong style="font-family: helvetica\, sans-serif\;">Stop in to get a tour of our office remodel!<br />\nWe will&nbsp\; be serving coffee\, cookies\, and cider!</strong></span></span>
LOCATION:Thrivent Financial - Kurt Nygaard 1401 College Way Fergus Falls\, MN 56537
UID:e.314.54791
SEQUENCE:3
DTSTAMP:20260422T221909Z
URL:https://business.fergusfalls.com/events/details/open-house-thrivent-financial-54791
END:VEVENT

END:VCALENDAR
